BEGIN:VCALENDAR
VERSION:2.0
PRODID:-//SVP Bülach //NONSGML Events //EN
CALSCALE:GREGORIAN
X-WR-CALNAME:SVP Bülach
BEGIN:VEVENT
CREATED:20240116T135930Z
UID:3644
DTEND:20240303T000000
DTSTART:20240303T000000
DTSTAMP:20260425T153004Z
LOCATION:
DESCRIPTION:Eidgenössische Vorlagen 1. Volksinitiative vom 28. Mai 2021 «Für ei
SUMMARY:Abstimmungssonntag 3. März
ORGANIZER:
URL;VALUE=URI:https://www.svpbuelach.ch/termine/abstimmungssonntag-3-maerz/
TRANSP:OPAQUE
END:VEVENT
END:VCALENDAR
