BEGIN:VCALENDAR
VERSION:2.0
PRODID:-//SVP Bülach //NONSGML Events //EN
CALSCALE:GREGORIAN
X-WR-CALNAME:SVP Bülach
BEGIN:VEVENT
CREATED:20240117T063621Z
UID:3652
DTEND:20241114T200000
DTSTART:20241114T190000
DTSTAMP:20260425T162848Z
LOCATION:
DESCRIPTION:
SUMMARY:Delegiertenversammlung (Bezirk)
ORGANIZER:
URL;VALUE=URI:https://www.svpbuelach.ch/termine/podium-delegiertenversammlung/
TRANSP:OPAQUE
END:VEVENT
END:VCALENDAR
