BEGIN:VCALENDAR
VERSION:2.0
PRODID:-//SVP Bülach //NONSGML Events //EN
CALSCALE:GREGORIAN
X-WR-CALNAME:SVP Bülach
BEGIN:VEVENT
CREATED:20240117T063448Z
UID:3653
DTEND:20241101T000000
DTSTART:20241101T000000
DTSTAMP:20260425T152004Z
LOCATION:Eglisau
DESCRIPTION:
SUMMARY:Bezirksanlass Herbstfest in Eglisau
ORGANIZER:SVP Eglisau
URL;VALUE=URI:https://www.svpbuelach.ch/termine/bezirksanlass-herbstfest-in-eglisau/
TRANSP:OPAQUE
END:VEVENT
END:VCALENDAR
