BEGIN:VCALENDAR
VERSION:2.0
PRODID:-//SVP Bülach //NONSGML Events //EN
CALSCALE:GREGORIAN
X-WR-CALNAME:SVP Bülach
BEGIN:VEVENT
CREATED:20240117T063402Z
UID:3654
DTEND:20240830T000000
DTSTART:20240830T000000
DTSTAMP:20260425T152004Z
LOCATION:Kloten
DESCRIPTION: Treffpunkte:
Parkplatz Schützenhaus, Wallisellen
Parkplatz Seewadel 
SUMMARY:Bezirksanlass Gemeinden um Hardwald (Kloten)
ORGANIZER:
URL;VALUE=URI:https://www.svpbuelach.ch/termine/bezirksanlass-gemeinden-um-hardwald-kloten/
TRANSP:OPAQUE
END:VEVENT
END:VCALENDAR
