BEGIN:VCALENDAR
VERSION:2.0
PRODID:-//SVP Bülach //NONSGML Events //EN
CALSCALE:GREGORIAN
X-WR-CALNAME:SVP Bülach
BEGIN:VEVENT
CREATED:20240117T063218Z
UID:3655
DTEND:20240608T000000
DTSTART:20240608T000000
DTSTAMP:20260425T151954Z
LOCATION:
DESCRIPTION:
SUMMARY:Behördentag
ORGANIZER:
URL;VALUE=URI:https://www.svpbuelach.ch/termine/behoerdentag/
TRANSP:OPAQUE
END:VEVENT
END:VCALENDAR
