BEGIN:VCALENDAR
VERSION:2.0
PRODID:-//SVP Bülach //NONSGML Events //EN
CALSCALE:GREGORIAN
X-WR-CALNAME:SVP Bülach
BEGIN:VEVENT
CREATED:20240117T063129Z
UID:3656
DTEND:20240514T210000
DTSTART:20240514T200000
DTSTAMP:20260425T152050Z
LOCATION:Restaurant Bären\, Nürensdorf
DESCRIPTION:
SUMMARY:Delegiertenversammlung / GV (Bezirk)
ORGANIZER:
URL;VALUE=URI:https://www.svpbuelach.ch/termine/podium-delegiertenversammlung-gv/
TRANSP:OPAQUE
END:VEVENT
END:VCALENDAR
